BEGIN:VCALENDAR
VERSION:2.0
PRODID:-//InvisionCommunity Events 4.7.24//EN
METHOD:PUBLISH
CALSCALE:GREGORIAN
REFRESH-INTERVAL:PT15M
X-PUBLISHED-TTL:PT15M
X-WR-CALNAME:Évènements
NAME:Évènements
BEGIN:VTIMEZONE
TZID:Europe/London
TZURL:http://tzurl.org/zoneinfo/Europe/London
X-LIC-LOCATION:Europe/London
BEGIN:DAYLIGHT
TZOFFSETFROM:+0000
TZOFFSETTO:+0100
TZNAME:BST
DTSTART:20200329T020000Z
RRULE:FREQ=YEARLY;BYMONTH=3;BYDAY=-1SU
END:DAYLIGHT
BEGIN:STANDARD
TZOFFSETFROM:+0100
TZOFFSETTO:+0000
TZNAME:GMT
DTSTART:20201025T020000Z
RRULE:FREQ=YEARLY;BYMONTH=10;BYDAY=-1SU
END:STANDARD
END:VTIMEZONE
BEGIN:VTIMEZONE
TZID:Europe/London
TZURL:http://tzurl.org/zoneinfo/Europe/London
X-LIC-LOCATION:Europe/London
BEGIN:DAYLIGHT
TZOFFSETFROM:+0000
TZOFFSETTO:+0100
TZNAME:BST
DTSTART:20190331T020000Z
RRULE:FREQ=YEARLY;BYMONTH=3;BYDAY=-1SU
END:DAYLIGHT
BEGIN:STANDARD
TZOFFSETFROM:+0100
TZOFFSETTO:+0000
TZNAME:GMT
DTSTART:20191027T020000Z
RRULE:FREQ=YEARLY;BYMONTH=10;BYDAY=-1SU
END:STANDARD
END:VTIMEZONE
BEGIN:VTIMEZONE
TZID:Europe/London
TZURL:http://tzurl.org/zoneinfo/Europe/London
X-LIC-LOCATION:Europe/London
BEGIN:DAYLIGHT
TZOFFSETFROM:+0000
TZOFFSETTO:+0100
TZNAME:BST
DTSTART:20170326T020000Z
RRULE:FREQ=YEARLY;BYMONTH=3;BYDAY=-1SU
END:DAYLIGHT
BEGIN:STANDARD
TZOFFSETFROM:+0100
TZOFFSETTO:+0000
TZNAME:GMT
DTSTART:20171029T020000Z
RRULE:FREQ=YEARLY;BYMONTH=10;BYDAY=-1SU
END:STANDARD
END:VTIMEZONE
BEGIN:VTIMEZONE
TZID:Europe/London
TZURL:http://tzurl.org/zoneinfo/Europe/London
X-LIC-LOCATION:Europe/London
BEGIN:DAYLIGHT
TZOFFSETFROM:+0000
TZOFFSETTO:+0100
TZNAME:BST
DTSTART:20180325T020000Z
RRULE:FREQ=YEARLY;BYMONTH=3;BYDAY=-1SU
END:DAYLIGHT
BEGIN:STANDARD
TZOFFSETFROM:+0100
TZOFFSETTO:+0000
TZNAME:GMT
DTSTART:20181028T020000Z
RRULE:FREQ=YEARLY;BYMONTH=10;BYDAY=-1SU
END:STANDARD
END:VTIMEZONE
BEGIN:VEVENT
SUMMARY:Toutes les planètes visibles dans le ciel
DTSTAMP:20200111T141933Z
SEQUENCE:0
UID:1042-6-031739ed878d486129b2876562f7e18e@www.webastro.net
ORGANIZER;CN="Fred_76":admin.forum@webastro.net
DESCRIPTION:\n	La nuit du 23/07/2020\, toutes les planètes seront visi
	bles. L’occasion d’organiser un marathon des planètes.\n
DTSTART;VALUE=DATE:20200723
END:VEVENT
BEGIN:VEVENT
SUMMARY:Pluie α-monocérotides ZHR=236 Vendredi 22/11/2019 06h14
DTSTAMP:20191120T153515Z
SEQUENCE:0
UID:1009-6-031739ed878d486129b2876562f7e18e@www.webastro.net
ORGANIZER;CN="Fred_76":admin.forum@webastro.net
DESCRIPTION:\n\n	Alerte !\n\n\n\n	 \n\n\n\n	L'essaim des alpha-monocé
	rotides semble prometteur avec un ratio ZHR grimpant à près de 240 met/
	h à 06h14 (heure française) ce vendredi 22 novembre 2019\, d'après Pete
	r Jenniskens\, expert de la NASA pour ce genre de phénomènes. Attention 
	ce pic ne durera qu'une demi heure centré sur 6h14\, donc débt vers 6h f
	in vers 6h30.\n\n\n\n	 \n\n\n\n	Peter Jenniskens n'est pas infaillible\, 
	on peut ne rien voir\, ou voir plus !\n\n\n\n	 \n\n\n\n		Le radian sera a
	u Sud - Sud Ouest\, à environ 40° au dessus de l'horizon. \n	\n	\n		La 
	Lune sera à l'Est - Sud Est\, à 30° au dessus de l'horizon et au 1/4 pl
	eine (dernier croissant).\n	\n\n	 \n\n\n\n	Ce seront donc de bonnes condi
	tions pour observer l'évènement\, à condition que la météo soit propi
	ce.\n\n\n\n	 \n\n\n\n	A+\n\n\n\n	 \n\n\n\n	Fred\n\n\n\n	 \n\n\n\n	 \n\
	n
DTSTART:20191122T051400Z
END:VEVENT
BEGIN:VEVENT
SUMMARY:Éclipse lunaire partielle
DTSTAMP:20190124T134729Z
SEQUENCE:0
UID:812-6-031739ed878d486129b2876562f7e18e@www.webastro.net
ORGANIZER;CN="Fred_76":admin.forum@webastro.net
DESCRIPTION:\n\n				Circonstances\n			\n			\n				Instants en UTC\n			\n	
		\n				  Entrée dans la pénombre\n			\n			\n				  16 juillet à 18h 
	43.8m UTC\n			\n		\n				  Entrée dans l'ombre\n			\n			\n				  16 jui
	llet à 20h 1.7m UTC\n			\n		\n				  Maximum de l'éclipse\n			\n			\n
					  16 juillet à 21h 30.7m UTC\n			\n		\n				  Sortie de l'ombre\n	
			\n			\n				  16 juillet à 22h 59.7m UTC\n			\n		\n				  Sortie de 
	la pénombre\n			\n			\n				  17 juillet à 0h 17.6m UTC\n			\n		\n	 \n
	\n\n\n	https://promenade.imcce.fr/fr/pages6/781.html\n\n
DTSTART:20170715T220000Z
END:VEVENT
BEGIN:VEVENT
SUMMARY:Êta aquarides
DTSTAMP:20190124T134431Z
SEQUENCE:0
UID:811-6-031739ed878d486129b2876562f7e18e@www.webastro.net
ORGANIZER;CN="Fred_76":admin.forum@webastro.net
DESCRIPTION:\n\n	Pic d'activité des Êta aquarides\, associées à la 
	comète de Halley.\n\n\n\n	 \n\n\n\n	Le phénomène est visible chaque a
	nnée avec un pic d’activité le 6 mai.\n\n\n\n	 \n\n\n\n	ZHR de 50.\n
	\n
DTSTART:20190505T220000Z
END:VEVENT
BEGIN:VEVENT
SUMMARY:Eclipse partielle de Lune
DTSTAMP:20180912T080335Z
SEQUENCE:0
UID:595-6-031739ed878d486129b2876562f7e18e@www.webastro.net
ORGANIZER;CN="Fred_76":admin.forum@webastro.net
DESCRIPTION:\n	Une éclipse partielle de Lune aura lieu dans la nuit du
	 16 au 17 juillet 2019.\n
DTSTART:20190716T200000Z
DTEND:20190716T000000Z
END:VEVENT
BEGIN:VEVENT
SUMMARY:Éclipse totale de Lune
DTSTAMP:20180911T172455Z
SEQUENCE:0
UID:594-6-031739ed878d486129b2876562f7e18e@www.webastro.net
ORGANIZER;CN="Fred_76":admin.forum@webastro.net
DESCRIPTION:\n\n	Le 21 janvier 2019 très tôt le matin\, affûtez vos l
	unettes\, jumelles et appareils photos car il y aura une éclipse totale d
	e Lune.\n\n\n\n	 \n\n\n\n	Plus de détails ici :\n\n\n\n	https://promenad
	e.imcce.fr/fr/pages6/780.html\n\n
DTSTART:20190121T030000Z
DTEND:20190121T000000Z
END:VEVENT
BEGIN:VEVENT
SUMMARY:Eclipse de Lune
DTSTAMP:20180702T154533Z
SEQUENCE:0
UID:577-6-031739ed878d486129b2876562f7e18e@www.webastro.net
ORGANIZER;CN="Fred_76":admin.forum@webastro.net
DESCRIPTION:\n\n	Eclipse totale de Lune en début de nuit\, visible de t
	oute la France.\n\n\n\n	La Lune émergera de l'horizon quasiment déjà co
	mplètement occultée\, avant de réapparaître progressivement de 22h20 
	à 23h15.\n\n\n\n	 \n\n\n\n	Voici les caractéristiques de l'événement 
	(source IMCCE) :\n\n\n\n\n		  Entrée dans la pénombre : 19h15m\n	\n	\n
			  Entrée dans l'ombre : 20h24\n	\n	\n		  Commencement de la totalité
	 : 21h30\n	\n	\n		  Maximum de l'éclipse : 22h22\n	\n	\n		  Fin de la t
	otalité : 23h13\n	\n	\n		  Sortie de l'ombre : 00h19\n	\n	\n		  Sortie 
	de la pénombre : 01h29\n	\n\n\n	 \n\n\n\n	\n\n\n	 \n\n\n\n	Pour la Fran
	ce :\n\n	- les régions entre les lignes T1 et la ligne T2 ne verront une 
	partie de la phase de totalité (en gros ouest des Hauts de France\, Norma
	ndie\, Bretagne\, Pays de Loire\, bordure Atlantique)\n\n\n\n	- les régio
	ns à droite de la ligne T1 verront l'éclipse pendant toute la phase de t
	otalité (en gros le reste de la France)\n\n\n\n	 \n\n\n\n	 \n\n
DTSTART:20180727T200000Z
DTEND:20180727T211500Z
END:VEVENT
END:VCALENDAR
